BEGIN:VCALENDAR
VERSION:2.0
PRODID:-//New Hampshire Trapshooting Association - ECPv6.15.20//NONSGML v1.0//EN
CALSCALE:GREGORIAN
METHOD:PUBLISH
X-WR-CALNAME:New Hampshire Trapshooting Association
X-ORIGINAL-URL:https://www.nhtrap.org
X-WR-CALDESC:Events for New Hampshire Trapshooting Association
REFRESH-INTERVAL;VALUE=DURATION:PT1H
X-Robots-Tag:noindex
X-PUBLISHED-TTL:PT1H
BEGIN:VTIMEZONE
TZID:UTC
BEGIN:STANDARD
TZOFFSETFROM:+0000
TZOFFSETTO:+0000
TZNAME:UTC
DTSTART:20250101T000000
END:STANDARD
END:VTIMEZONE
BEGIN:VTIMEZONE
TZID:America/New_York
BEGIN:DAYLIGHT
TZOFFSETFROM:-0500
TZOFFSETTO:-0400
TZNAME:EDT
DTSTART:20250309T070000
END:DAYLIGHT
BEGIN:STANDARD
TZOFFSETFROM:-0400
TZOFFSETTO:-0500
TZNAME:EST
DTSTART:20251102T060000
END:STANDARD
BEGIN:DAYLIGHT
TZOFFSETFROM:-0500
TZOFFSETTO:-0400
TZNAME:EDT
DTSTART:20260308T070000
END:DAYLIGHT
BEGIN:STANDARD
TZOFFSETFROM:-0400
TZOFFSETTO:-0500
TZNAME:EST
DTSTART:20261101T060000
END:STANDARD
BEGIN:DAYLIGHT
TZOFFSETFROM:-0500
TZOFFSETTO:-0400
TZNAME:EDT
DTSTART:20270314T070000
END:DAYLIGHT
BEGIN:STANDARD
TZOFFSETFROM:-0400
TZOFFSETTO:-0500
TZNAME:EST
DTSTART:20271107T060000
END:STANDARD
END:VTIMEZONE
BEGIN:VEVENT
DTSTART;VALUE=DATE:20260426
DTEND;VALUE=DATE:20260427
DTSTAMP:20260423T080329
CREATED:20220404T205706Z
LAST-MODIFIED:20260130T132825Z
UID:4641-1777161600-1777247999@www.nhtrap.org
SUMMARY:Fitchburg "Swallow Hill" Shoot
DESCRIPTION:
URL:https://www.nhtrap.org/?tribe_events=fitchburg-buck-moon-shoot
LOCATION:Fitchburg Rod & Gun Club\, 985 Richardson Rd.\, Ashby\, MA\, 01431
ATTACH;FMTTYPE=image/jpeg:https://www.nhtrap.org/wp-content/uploads/2022/04/Event-Logo-Fitchburg.jpg
END:VEVENT
BEGIN:VEVENT
DTSTART;VALUE=DATE:20260503
DTEND;VALUE=DATE:20260504
DTSTAMP:20260423T080329
CREATED:20220327T155822Z
LAST-MODIFIED:20260130T132904Z
UID:4579-1777766400-1777852799@www.nhtrap.org
SUMMARY:Minute Man "Delegate Cup" Shoot
DESCRIPTION:
URL:https://www.nhtrap.org/?tribe_events=registered-shoot-5
LOCATION:Minute Man Sportsmen’s Club\, 56R Francis Wyman Rd.\, Burlington\, Massachusetts\, 01803
ATTACH;FMTTYPE=image/jpeg:https://www.nhtrap.org/wp-content/uploads/2022/02/Event-Logo-Minute-Man.jpg
END:VEVENT
BEGIN:VEVENT
DTSTART;VALUE=DATE:20260506
DTEND;VALUE=DATE:20260511
DTSTAMP:20260423T080329
CREATED:20240107T214155Z
LAST-MODIFIED:20260102T173827Z
UID:6170-1778025600-1778457599@www.nhtrap.org
SUMMARY:Empire Grand
DESCRIPTION:
URL:https://www.nhtrap.org/?tribe_events=empire-grand
LOCATION:NYSATA Homegrounds\, 7400 Bull St.\, Bridgeport\, New York\, 13030
ATTACH;FMTTYPE=image/jpeg:https://www.nhtrap.org/wp-content/uploads/2024/12/Event-Logo-ATA-scaled.jpg
END:VEVENT
BEGIN:VEVENT
DTSTART;VALUE=DATE:20260517
DTEND;VALUE=DATE:20260518
DTSTAMP:20260423T080329
CREATED:20220404T203440Z
LAST-MODIFIED:20260130T132933Z
UID:4635-1778976000-1779062399@www.nhtrap.org
SUMMARY:North Leominster "Armed Forces" Shoot
DESCRIPTION:
URL:https://www.nhtrap.org/?tribe_events=north-leominster-high-flyers-shoot
LOCATION:North Leominster Rod & Gun Club\, 1501 Lancaster Ave.\, Lunenburg\, Massachusetts\, 01462
ATTACH;FMTTYPE=image/png:https://www.nhtrap.org/wp-content/uploads/2022/02/Event-Logo-North-Leominster.png
END:VEVENT
BEGIN:VEVENT
DTSTART;VALUE=DATE:20260530
DTEND;VALUE=DATE:20260531
DTSTAMP:20260423T080329
CREATED:20220203T133517Z
LAST-MODIFIED:20260417T142817Z
UID:4470-1780099200-1780185599@www.nhtrap.org
SUMMARY:Badges & Barrels AIM Event
DESCRIPTION:Come watch NH youth trap team AIM4NH take on NH Fish and Game Conservation Officers in Badges and Barrels fundraiser event.\nDonations are welcome. All proceeds are split between AIM4NH and Operation Game Thief.\n\nCLICK HERE for a link to get your tickets
URL:https://www.nhtrap.org/?tribe_events=badges-barrels-2022
LOCATION:horse\, Merrimack\, NH
ATTACH;FMTTYPE=image/png:https://www.nhtrap.org/wp-content/uploads/2022/02/Event-Logo-AIM.png
END:VEVENT
BEGIN:VEVENT
DTSTART;VALUE=DATE:20260531
DTEND;VALUE=DATE:20260601
DTSTAMP:20260423T080329
CREATED:20241227T125815Z
LAST-MODIFIED:20260410T202217Z
UID:7640-1780185600-1780271999@www.nhtrap.org
SUMMARY:Peterborough Registered Shoot
DESCRIPTION:
URL:https://www.nhtrap.org/?tribe_events=peterborough-registered-shoot
LOCATION:Peterborough Sportsmen’s Club\, 209 Old Peterborough Rd.\, Peterborough\, NH\, 03444
ATTACH;FMTTYPE=image/png:https://www.nhtrap.org/wp-content/uploads/2022/02/Event-Logo-Peterborough.png
END:VEVENT
BEGIN:VEVENT
DTSTART;VALUE=DATE:20260531
DTEND;VALUE=DATE:20260601
DTSTAMP:20260423T080329
CREATED:20250331T205223Z
LAST-MODIFIED:20260130T133006Z
UID:7738-1780185600-1780271999@www.nhtrap.org
SUMMARY:Holbrook "Handicap Challenge" Shoot
DESCRIPTION:
URL:https://www.nhtrap.org/?tribe_events=holbrook-handicap-challenge-shoot
LOCATION:Holbrook Sportsmen’s Club\, 150 Quincy St.\, Holbrook\, MA\, 02343
ATTACH;FMTTYPE=image/png:https://www.nhtrap.org/wp-content/uploads/2022/02/Event-Logo-Holbrook.png
END:VEVENT
BEGIN:VEVENT
DTSTART;VALUE=DATE:20260605
DTEND;VALUE=DATE:20260608
DTSTAMP:20260423T080329
CREATED:20240520T151759Z
LAST-MODIFIED:20260126T225222Z
UID:6331-1780617600-1780876799@www.nhtrap.org
SUMMARY:Rhode Island State Shoot
DESCRIPTION:
URL:https://www.nhtrap.org/?tribe_events=rhode-island-state-shoot
LOCATION:Wallum Lake Rod & Gun Club\, 200 Brook Rd.\, Burrillville\, RI\, 02830
ATTACH;FMTTYPE=image/jpeg:https://www.nhtrap.org/wp-content/uploads/2024/05/Event-Logo-Wallum-Lake.jpg
END:VEVENT
BEGIN:VEVENT
DTSTART;VALUE=DATE:20260611
DTEND;VALUE=DATE:20260615
DTSTAMP:20260423T080329
CREATED:20220327T160909Z
LAST-MODIFIED:20260102T192613Z
UID:4582-1781136000-1781481599@www.nhtrap.org
SUMMARY:Massachusetts State Shoot
DESCRIPTION:
URL:https://www.nhtrap.org/?tribe_events=massachusetts-state-shoot
LOCATION:Minute Man Sportsmen’s Club\, 56R Francis Wyman Rd.\, Burlington\, Massachusetts\, 01803
ATTACH;FMTTYPE=image/jpeg:https://www.nhtrap.org/wp-content/uploads/2022/02/Event-Logo-MATA.jpg
END:VEVENT
BEGIN:VEVENT
DTSTART;VALUE=DATE:20260619
DTEND;VALUE=DATE:20260622
DTSTAMP:20260423T080329
CREATED:20220310T125748Z
LAST-MODIFIED:20260102T192333Z
UID:4546-1781827200-1782086399@www.nhtrap.org
SUMMARY:Vermont State Shoot
DESCRIPTION:
URL:https://www.nhtrap.org/?tribe_events=vermont-state-shoot
LOCATION:Montpelier Gun Club\, 240 Goodnow Rd.\, Berlin\, VT\, 05602
ATTACH;FMTTYPE=image/jpeg:https://www.nhtrap.org/wp-content/uploads/2022/02/Event-Logo-Montpelier.jpg
END:VEVENT
BEGIN:VEVENT
DTSTART;VALUE=DATE:20260626
DTEND;VALUE=DATE:20260629
DTSTAMP:20260423T080329
CREATED:20220203T134931Z
LAST-MODIFIED:20260102T192254Z
UID:4481-1782432000-1782691199@www.nhtrap.org
SUMMARY:Connecticut State Shoot
DESCRIPTION:
URL:https://www.nhtrap.org/?tribe_events=connecticut-state-shoot
LOCATION:Hartford Gun Club\, 157 S. Main St.\, East Granby\, CT\, 06026\, United States
ATTACH;FMTTYPE=image/png:https://www.nhtrap.org/wp-content/uploads/2022/02/Event-Logo-Hartford.png
END:VEVENT
BEGIN:VEVENT
DTSTART;VALUE=DATE:20260628
DTEND;VALUE=DATE:20260629
DTSTAMP:20260423T080329
CREATED:20230116T174806Z
LAST-MODIFIED:20260410T202329Z
UID:5478-1782604800-1782691199@www.nhtrap.org
SUMMARY:Peterborough Registered Shoot
DESCRIPTION:
URL:https://www.nhtrap.org/?tribe_events=peterborough-registered-shoot-7
LOCATION:Peterborough Sportsmen’s Club\, 209 Old Peterborough Rd.\, Peterborough\, NH\, 03444
ATTACH;FMTTYPE=image/png:https://www.nhtrap.org/wp-content/uploads/2022/02/Event-Logo-Peterborough.png
END:VEVENT
BEGIN:VEVENT
DTSTART;VALUE=DATE:20260705
DTEND;VALUE=DATE:20260706
DTSTAMP:20260423T080329
CREATED:20220404T210606Z
LAST-MODIFIED:20260130T133041Z
UID:4655-1783209600-1783295999@www.nhtrap.org
SUMMARY:Royalston "Hamlett Memorial" Shoot
DESCRIPTION:
URL:https://www.nhtrap.org/?tribe_events=royalston-bird-season-shoot
LOCATION:Royalston Fish & Game\, 49 Main St.\, Phillipston\, Massachusetts\, 01331
ATTACH;FMTTYPE=image/png:https://www.nhtrap.org/wp-content/uploads/2022/02/Event-Logo-Royalston.png
END:VEVENT
BEGIN:VEVENT
DTSTART;VALUE=DATE:20260709
DTEND;VALUE=DATE:20260713
DTSTAMP:20260423T080329
CREATED:20220310T130443Z
LAST-MODIFIED:20260102T174545Z
UID:4549-1783555200-1783900799@www.nhtrap.org
SUMMARY:Maine State Shoot
DESCRIPTION:
URL:https://www.nhtrap.org/?tribe_events=maine-state-shoot
LOCATION:Scarborough Fish & Game Association\, 21 Fish & Game Ln.\, Scarborough\, ME\, 04074
ATTACH;FMTTYPE=image/png:https://www.nhtrap.org/wp-content/uploads/2022/02/Event-Logo-Scarborough.png
END:VEVENT
BEGIN:VEVENT
DTSTART;VALUE=DATE:20260712
DTEND;VALUE=DATE:20260713
DTSTAMP:20260423T080329
CREATED:20230319T135506Z
LAST-MODIFIED:20260130T133113Z
UID:5548-1783814400-1783900799@www.nhtrap.org
SUMMARY:North Leominster "High Pressure" Shoot
DESCRIPTION:
URL:https://www.nhtrap.org/?tribe_events=north-leominster-marathon
LOCATION:North Leominster Rod & Gun Club\, 1501 Lancaster Ave.\, Lunenburg\, Massachusetts\, 01462
ATTACH;FMTTYPE=image/png:https://www.nhtrap.org/wp-content/uploads/2022/02/Event-Logo-North-Leominster.png
END:VEVENT
BEGIN:VEVENT
DTSTART;VALUE=DATE:20260718
DTEND;VALUE=DATE:20260719
DTSTAMP:20260423T080329
CREATED:20260126T223340Z
LAST-MODIFIED:20260126T223340Z
UID:8145-1784332800-1784419199@www.nhtrap.org
SUMMARY:AIM State Shoot
DESCRIPTION:
URL:https://www.nhtrap.org/?tribe_events=aim-state-shoot
LOCATION:Country Pond Fish & Game\, 82 Pond St\, Newton\, NH\, 03858\, United States
ATTACH;FMTTYPE=image/png:https://www.nhtrap.org/wp-content/uploads/2022/02/Event-Logo-AIM.png
END:VEVENT
BEGIN:VEVENT
DTSTART;VALUE=DATE:20260719
DTEND;VALUE=DATE:20260720
DTSTAMP:20260423T080329
CREATED:20260130T133224Z
LAST-MODIFIED:20260130T133224Z
UID:8189-1784419200-1784505599@www.nhtrap.org
SUMMARY:Fitchburg "Summer Fest" Shoot
DESCRIPTION:
URL:https://www.nhtrap.org/?tribe_events=fitchburg-summer-fest-shoot
LOCATION:Fitchburg Rod & Gun Club\, 985 Richardson Rd.\, Ashby\, MA\, 01431
ATTACH;FMTTYPE=image/jpeg:https://www.nhtrap.org/wp-content/uploads/2022/04/Event-Logo-Fitchburg.jpg
END:VEVENT
BEGIN:VEVENT
DTSTART;VALUE=DATE:20260724
DTEND;VALUE=DATE:20260727
DTSTAMP:20260423T080329
CREATED:20220310T123839Z
LAST-MODIFIED:20260102T191954Z
UID:4542-1784851200-1785110399@www.nhtrap.org
SUMMARY:New Hampshire State Shoot
DESCRIPTION:
URL:https://www.nhtrap.org/?tribe_events=new-hampshire-state-shoot
LOCATION:Minute Man Sportsmen’s Club\, 56R Francis Wyman Rd.\, Burlington\, Massachusetts\, 01803
ATTACH;FMTTYPE=image/png:https://www.nhtrap.org/wp-content/uploads/2022/02/Event-Logo-NHTA.png
END:VEVENT
BEGIN:VEVENT
DTSTART;VALUE=DATE:20260729
DTEND;VALUE=DATE:20260809
DTSTAMP:20260423T080329
CREATED:20211122T144530Z
LAST-MODIFIED:20260102T174339Z
UID:4042-1785283200-1786233599@www.nhtrap.org
SUMMARY:Grand American
DESCRIPTION:
URL:https://www.nhtrap.org/?tribe_events=grand-american
LOCATION:World Shooting & Recreational Complex\, 1 Main Event Ln.\, Sparta\, Illinois\, 62286
ATTACH;FMTTYPE=image/jpeg:https://www.nhtrap.org/wp-content/uploads/2024/12/Event-Logo-ATA-scaled.jpg
END:VEVENT
BEGIN:VEVENT
DTSTART;VALUE=DATE:20260802
DTEND;VALUE=DATE:20260803
DTSTAMP:20260423T080329
CREATED:20220404T210134Z
LAST-MODIFIED:20260130T133315Z
UID:4646-1785628800-1785715199@www.nhtrap.org
SUMMARY:North Leominster "Memorial" Shoot
DESCRIPTION:
URL:https://www.nhtrap.org/?tribe_events=north-leominster-memorial-shoot
LOCATION:North Leominster Rod & Gun Club\, 1501 Lancaster Ave.\, Lunenburg\, Massachusetts\, 01462
ATTACH;FMTTYPE=image/png:https://www.nhtrap.org/wp-content/uploads/2022/02/Event-Logo-North-Leominster.png
END:VEVENT
BEGIN:VEVENT
DTSTART;VALUE=DATE:20260809
DTEND;VALUE=DATE:20260810
DTSTAMP:20260423T080329
CREATED:20220404T202712Z
LAST-MODIFIED:20260130T133402Z
UID:4627-1786233600-1786319999@www.nhtrap.org
SUMMARY:Holbrook "Summer" Shoot
DESCRIPTION:
URL:https://www.nhtrap.org/?tribe_events=holbrook-may-cup-shoot
LOCATION:Holbrook Sportsmen’s Club\, 150 Quincy St.\, Holbrook\, MA\, 02343
ATTACH;FMTTYPE=image/png:https://www.nhtrap.org/wp-content/uploads/2022/02/Event-Logo-Holbrook.png
END:VEVENT
BEGIN:VEVENT
DTSTART;VALUE=DATE:20260815
DTEND;VALUE=DATE:20260816
DTSTAMP:20260423T080329
CREATED:20240131T194531Z
LAST-MODIFIED:20260128T220748Z
UID:6207-1786752000-1786838399@www.nhtrap.org
SUMMARY:Major Waldron Registered Shoot
DESCRIPTION:
URL:https://www.nhtrap.org/?tribe_events=major-waldron-registered-shoot
LOCATION:Major Waldron Sportsmen’s Association\, 339 Franklin Pierce Hwy.\, Barrington\, NH\, 03825
ATTACH;FMTTYPE=image/png:https://www.nhtrap.org/wp-content/uploads/2022/02/Event-Logo-Major-Waldron.png
END:VEVENT
BEGIN:VEVENT
DTSTART;VALUE=DATE:20260816
DTEND;VALUE=DATE:20260817
DTSTAMP:20260423T080329
CREATED:20230116T174538Z
LAST-MODIFIED:20260410T202407Z
UID:5476-1786838400-1786924799@www.nhtrap.org
SUMMARY:Peterborough Registered Shoot
DESCRIPTION:
URL:https://www.nhtrap.org/?tribe_events=peterborough-registered-shoot-6
LOCATION:Peterborough Sportsmen’s Club\, 209 Old Peterborough Rd.\, Peterborough\, NH\, 03444
ATTACH;FMTTYPE=image/png:https://www.nhtrap.org/wp-content/uploads/2022/02/Event-Logo-Peterborough.png
END:VEVENT
BEGIN:VEVENT
DTSTART;VALUE=DATE:20260830
DTEND;VALUE=DATE:20260831
DTSTAMP:20260423T080329
CREATED:20220404T203605Z
LAST-MODIFIED:20260130T133441Z
UID:4637-1788048000-1788134399@www.nhtrap.org
SUMMARY:Holbrook "Holbrook Cup" Shoot
DESCRIPTION:
URL:https://www.nhtrap.org/?tribe_events=holbrook-summer-shoot
LOCATION:Holbrook Sportsmen’s Club\, 150 Quincy St.\, Holbrook\, MA\, 02343
ATTACH;FMTTYPE=image/png:https://www.nhtrap.org/wp-content/uploads/2022/02/Event-Logo-Holbrook.png
END:VEVENT
BEGIN:VEVENT
DTSTART;VALUE=DATE:20260906
DTEND;VALUE=DATE:20260907
DTSTAMP:20260423T080329
CREATED:20220404T210500Z
LAST-MODIFIED:20260130T133523Z
UID:4653-1788652800-1788739199@www.nhtrap.org
SUMMARY:North Leominster "Labor Day" Shoot
DESCRIPTION:
URL:https://www.nhtrap.org/?tribe_events=north-leominster-labor-day-400-shoot
LOCATION:North Leominster Rod & Gun Club\, 1501 Lancaster Ave.\, Lunenburg\, Massachusetts\, 01462
ATTACH;FMTTYPE=image/png:https://www.nhtrap.org/wp-content/uploads/2022/02/Event-Logo-North-Leominster.png
END:VEVENT
BEGIN:VEVENT
DTSTART;VALUE=DATE:20260909
DTEND;VALUE=DATE:20260914
DTSTAMP:20260423T080329
CREATED:20221209T192043Z
LAST-MODIFIED:20260102T173930Z
UID:5434-1788912000-1789343999@www.nhtrap.org
SUMMARY:Northeastern Grand
DESCRIPTION:
URL:https://www.nhtrap.org/?tribe_events=northeastern-grand-2
LOCATION:NYSATA Homegrounds\, 7400 Bull St.\, Bridgeport\, New York\, 13030
ATTACH;FMTTYPE=image/jpeg:https://www.nhtrap.org/wp-content/uploads/2024/12/Event-Logo-ATA-scaled.jpg
END:VEVENT
BEGIN:VEVENT
DTSTART;VALUE=DATE:20260913
DTEND;VALUE=DATE:20260914
DTSTAMP:20260423T080329
CREATED:20220404T201834Z
LAST-MODIFIED:20260130T133559Z
UID:4617-1789257600-1789343999@www.nhtrap.org
SUMMARY:Royalston "Bird Season" Shoot
DESCRIPTION:
URL:https://www.nhtrap.org/?tribe_events=royalston-registered-shoot-welcome-back
LOCATION:Royalston Fish & Game\, 49 Main St.\, Phillipston\, Massachusetts\, 01331
ATTACH;FMTTYPE=image/png:https://www.nhtrap.org/wp-content/uploads/2022/02/Event-Logo-Royalston.png
END:VEVENT
BEGIN:VEVENT
DTSTART;VALUE=DATE:20260920
DTEND;VALUE=DATE:20260921
DTSTAMP:20260423T080329
CREATED:20230116T174504Z
LAST-MODIFIED:20260410T202444Z
UID:5474-1789862400-1789948799@www.nhtrap.org
SUMMARY:Peterborough Registered Shoot
DESCRIPTION:
URL:https://www.nhtrap.org/?tribe_events=peterborough-registered-shoot-5
LOCATION:Peterborough Sportsmen’s Club\, 209 Old Peterborough Rd.\, Peterborough\, NH\, 03444
ATTACH;FMTTYPE=image/png:https://www.nhtrap.org/wp-content/uploads/2022/02/Event-Logo-Peterborough.png
END:VEVENT
BEGIN:VEVENT
DTSTART;VALUE=DATE:20260927
DTEND;VALUE=DATE:20260928
DTSTAMP:20260423T080329
CREATED:20230319T141911Z
LAST-MODIFIED:20260130T133639Z
UID:5567-1790467200-1790553599@www.nhtrap.org
SUMMARY:North Leominster "End of Summer" Shoot
DESCRIPTION:
URL:https://www.nhtrap.org/?tribe_events=north-leominster-end-of-summer-shoot-2
LOCATION:North Leominster Rod & Gun Club\, 1501 Lancaster Ave.\, Lunenburg\, Massachusetts\, 01462
ATTACH;FMTTYPE=image/png:https://www.nhtrap.org/wp-content/uploads/2022/02/Event-Logo-North-Leominster.png
END:VEVENT
BEGIN:VEVENT
DTSTART;VALUE=DATE:20261003
DTEND;VALUE=DATE:20261004
DTSTAMP:20260423T080329
CREATED:20230210T211513Z
LAST-MODIFIED:20260128T220818Z
UID:5512-1790985600-1791071999@www.nhtrap.org
SUMMARY:Major Waldron Registered Shoot
DESCRIPTION:
URL:https://www.nhtrap.org/?tribe_events=major-waldron-big-50-2
LOCATION:Major Waldron Sportsmen’s Association\, 339 Franklin Pierce Hwy.\, Barrington\, NH\, 03825
ATTACH;FMTTYPE=image/png:https://www.nhtrap.org/wp-content/uploads/2022/02/Event-Logo-Major-Waldron.png
END:VEVENT
END:VCALENDAR